BEGIN:VCALENDAR
VERSION:2.0
PRODID:-//arran4//Golang ICS Library
METHOD:PUBLISH
NAME:PINE PARK EVERESTING
X-WR-CALNAME:PINE PARK EVERESTING
DESCRIPTION:Calendar for PINE PARK EVERESTING
TIMEZONE-ID:Asia/Jakarta
BEGIN:VEVENT
UID:c0f57657-6515-47a9-94b6-6687b0360a82
CREATED:20260419T062056Z
DTSTAMP:20260421T110100Z
LAST-MODIFIED:20260421T060640Z
SUMMARY:PINE PARK EVERESTING
DESCRIPTION:Find more events at https://mymindisracing.com
DTSTART:20260418T000000Z
LOCATION:Batu\, JI\, ID
GEO:-7.8711667;112.5269482
X-APPLE-STRUCTURED-LOCATION;VALUE=URI:geo:-7.871167,112.526948
X-TITLE:PINE PARK EVERESTING
URL:https://itra.run/Races/RaceDetails/PINE.PARK.EVERESTING.24H/2026/117393
END:VEVENT
END:VCALENDAR
