BEGIN:VCALENDAR
VERSION:2.0
PRODID:-//arran4//Golang ICS Library
METHOD:PUBLISH
NAME:2026 Dwellingup 100 & Mighty Jarrah Trail Run
X-WR-CALNAME:2026 Dwellingup 100 & Mighty Jarrah Trail Run
DESCRIPTION:Calendar for 2026 Dwellingup 100 & Mighty Jarrah Trail Run
TIMEZONE-ID:Australia/Perth
BEGIN:VEVENT
UID:c014a815-7bce-4059-ab8c-c89d6032ad1b
CREATED:20260420T064059Z
DTSTAMP:20260421T105905Z
LAST-MODIFIED:20260421T061614Z
SUMMARY:2026 Dwellingup 100 & Mighty Jarrah Trail Run
DESCRIPTION:Find more events at https://mymindisracing.com
DTSTART;TZID=Australia/Perth:20260912T130000
LOCATION:54 Mclarty Street\, Dwellingup\, WA\, 6213\, AU
GEO:-32.7144659;116.0617848
X-APPLE-STRUCTURED-LOCATION;VALUE=URI:geo:-32.714466,116.061785
X-TITLE:2026 Dwellingup 100 & Mighty Jarrah Trail Run
URL:https://theeventteam.com.au/d100
END:VEVENT
END:VCALENDAR
