BEGIN:VCALENDAR
VERSION:2.0
PRODID:-//arran4//Golang ICS Library
METHOD:PUBLISH
NAME:2026 Michelin Tire Trot
X-WR-CALNAME:2026 Michelin Tire Trot
DESCRIPTION:Calendar for 2026 Michelin Tire Trot
TIMEZONE-ID:America/Halifax
BEGIN:VEVENT
UID:bf3a1ff9-41a3-4ce0-aa00-2c2e66585d72
CREATED:20260420T062830Z
DTSTAMP:20260421T141620Z
LAST-MODIFIED:20260421T061735Z
SUMMARY:2026 Michelin Tire Trot
DESCRIPTION:Find more events at https://mymindisracing.com
DTSTART;TZID=America/Halifax:20260614T091500
LOCATION:135 North Park Street\, Bridgewater\, NS\, B4V 9B3\, CA
GEO:44.3860965;-64.5342633
X-APPLE-STRUCTURED-LOCATION;VALUE=URI:geo:44.386097,-64.534263
X-TITLE:2026 Michelin Tire Trot
URL:https://raceroster.com/events/2025/102583/michelin-tire-trot
END:VEVENT
END:VCALENDAR
