BEGIN:VCALENDAR
VERSION:2.0
PRODID:-//arran4//Golang ICS Library
METHOD:PUBLISH
NAME:Big Fish Triathlon 2026
X-WR-CALNAME:Big Fish Triathlon 2026
DESCRIPTION:Calendar for Big Fish Triathlon 2026
TIMEZONE-ID:America/New_York
BEGIN:VEVENT
UID:bdcbd1ba-3737-42db-b01b-0ace9701c4a8
CREATED:20260420T060013Z
DTSTAMP:20260421T105727Z
LAST-MODIFIED:20260421T060017Z
SUMMARY:Big Fish Triathlon 2026
DESCRIPTION:Find more events at https://mymindisracing.com
DTSTART;TZID=America/New_York:20260613T080000
DTEND;TZID=America/New_York:20260613T235900
LOCATION:50 W Lake Rd\, Mayville\, NY\, 14757\, US
GEO:42.241468;-79.494891
X-APPLE-STRUCTURED-LOCATION;VALUE=URI:geo:42.241468,-79.494891
X-TITLE:Mayville Lakeside Park
URL:https://www.facebook.com/bigfishtriathlon
END:VEVENT
END:VCALENDAR
