BEGIN:VCALENDAR
VERSION:2.0
PRODID:-//arran4//Golang ICS Library
METHOD:PUBLISH
NAME:Extreme Trail Running in Meitang
X-WR-CALNAME:Extreme Trail Running in Meitang
DESCRIPTION:Calendar for Extreme Trail Running in Meitang
TIMEZONE-ID:Asia/Shanghai
BEGIN:VEVENT
UID:bbbe51d2-51a4-4faa-8e6f-fc767c74c4b2
CREATED:20260419T062024Z
DTSTAMP:20260421T105910Z
LAST-MODIFIED:20260421T060638Z
SUMMARY:Extreme Trail Running in Meitang
DESCRIPTION:Find more events at https://mymindisracing.com
DTSTART:20260419T000000Z
LOCATION:Nanshan Shenzhen\, GD\, 518000\, CN
GEO:22.5360142;113.9256222
X-APPLE-STRUCTURED-LOCATION;VALUE=URI:geo:22.536014,113.925622
X-TITLE:Extreme Trail Running in Meitang
URL:https://itra.run/Races/RaceDetails/Extreme.Trail.Running.in.Meitang.JIJ
 INGMEITANG.TRAIL.RUNNING.28KM/2026/116719
END:VEVENT
END:VCALENDAR
