BEGIN:VCALENDAR
VERSION:2.0
PRODID:-//arran4//Golang ICS Library
METHOD:PUBLISH
NAME:Цветы Багульника. ХехцирТрейл.
X-WR-CALNAME:Цветы Багульника. ХехцирТрейл.
DESCRIPTION:Calendar for Цветы Багульника.
  ХехцирТрейл.
TIMEZONE-ID:Asia/Vladivostok
BEGIN:VEVENT
UID:bb6a7fc7-9929-4223-8732-41ff2de2cd18
CREATED:20260419T062104Z
DTSTAMP:20260421T105651Z
LAST-MODIFIED:20260421T060641Z
SUMMARY:Цветы Багульника. ХехцирТрейл.
DESCRIPTION:Find more events at https://mymindisracing.com
DTSTART:20260418T000000Z
LOCATION:Рабочая Улица\, Глк Хехцир\, KHA\, 680504\,
  RU
GEO:48.2388291;135.0264103
X-APPLE-STRUCTURED-LOCATION;VALUE=URI:geo:48.238829,135.026410
X-TITLE:Цветы Багульника. ХехцирТрейл.
URL:https://itra.run/Races/RaceDetails/%D0%A6%D0%B2%D0%B5%D1%82%D1%8B.%D0%9
 1%D0%B0%D0%B3%D1%83%D0%BB%D1%8C%D0%BD%D0%B8%D0%BA%D0%B0..%D0%A5%D0%B5%D1%8
 5%D1%86%D0%B8%D1%80%D0%A2%D1%80%D0%B5%D0%B9%D0%BB..%D0%A5%D0%B5%D1%85%D1%8
 6%D0%B8%D1%8020/2026/110582
END:VEVENT
END:VCALENDAR
