BEGIN:VCALENDAR
VERSION:2.0
PRODID:-//arran4//Golang ICS Library
METHOD:PUBLISH
NAME:Evermoore Brewing Company 5 Miler Presented By the PEI Marathon
X-WR-CALNAME:Evermoore Brewing Company 5 Miler Presented By the PEI
  Marathon
DESCRIPTION:Calendar for Evermoore Brewing Company 5 Miler Presented By the
  PEI Marathon
TIMEZONE-ID:America/Halifax
BEGIN:VEVENT
UID:bb09f9ff-0455-4c6f-80d0-a28aef8935cb
CREATED:20260420T063356Z
DTSTAMP:20260421T141708Z
LAST-MODIFIED:20260421T061804Z
SUMMARY:Evermoore Brewing Company 5 Miler Presented By the PEI Marathon
DESCRIPTION:Find more events at https://mymindisracing.com
DTSTART;TZID=America/Halifax:20260531T090000
LOCATION:192 Water Street\, Summerside\, PE\, C1N 5R1\, CA
GEO:46.3909128;-63.7884592
X-APPLE-STRUCTURED-LOCATION;VALUE=URI:geo:46.390913,-63.788459
X-TITLE:Evermoore Brewing Company 5 Miler Presented By the PEI Marathon
URL:https://peimarathon.ca/evermoore-brewing-company-5-miler/
END:VEVENT
END:VCALENDAR
