BEGIN:VCALENDAR
VERSION:2.0
PRODID:-//arran4//Golang ICS Library
METHOD:PUBLISH
NAME:MS Watermelon Festival 5K
X-WR-CALNAME:MS Watermelon Festival 5K
DESCRIPTION:Calendar for MS Watermelon Festival 5K
TIMEZONE-ID:America/Chicago
BEGIN:VEVENT
UID:b9697602-23ff-47bf-a0fb-7e432c153704
CREATED:20260420T064740Z
DTSTAMP:20260421T105936Z
LAST-MODIFIED:20260421T063244Z
SUMMARY:MS Watermelon Festival 5K
DESCRIPTION:Find more events at https://mymindisracing.com
DTSTART;TZID=America/Chicago:20260718T190000
LOCATION:266 West Magnolia Street\, Smith County\, MS\, 39116\, US
GEO:31.8684626;-89.5559014
X-APPLE-STRUCTURED-LOCATION;VALUE=URI:geo:31.868463,-89.555901
X-TITLE:MS Watermelon Festival 5K
URL:https://www.mswatermelonfestival.com/
END:VEVENT
END:VCALENDAR
