BEGIN:VCALENDAR
VERSION:2.0
PRODID:-//arran4//Golang ICS Library
METHOD:PUBLISH
NAME:Clay County Young Life “Hula Hustle” 5K & 1 Mile Fun Run 2026
X-WR-CALNAME:Clay County Young Life “Hula Hustle” 5K & 1 Mile Fun Run
  2026
DESCRIPTION:Calendar for Clay County Young Life “Hula Hustle” 5K & 1
  Mile Fun Run 2026
TIMEZONE-ID:America/New_York
BEGIN:VEVENT
UID:b40217e8-da7b-4bea-a37e-64653a984eb8
CREATED:20260420T063146Z
DTSTAMP:20260423T110615Z
LAST-MODIFIED:20260423T061545Z
SUMMARY:Clay County Young Life “Hula Hustle” 5K & 1 Mile Fun Run 2026
DESCRIPTION:Find more events at https://mymindisracing.com
DTSTART;TZID=America/New_York:20260502T080000
LOCATION:455 Park Avenue\, Orange Park\, FL\, 32073\, US
GEO:30.184187;-81.7001553
X-APPLE-STRUCTURED-LOCATION;VALUE=URI:geo:30.184187,-81.700155
X-TITLE:Clay County Young Life “Hula Hustle” 5K & 1 Mile Fun Run 2026
URL:https://1stplacesports.com/races/ccyl5k/
END:VEVENT
END:VCALENDAR
