BEGIN:VCALENDAR
VERSION:2.0
PRODID:-//arran4//Golang ICS Library
METHOD:PUBLISH
NAME:Salmon Festival Road Race 2026
X-WR-CALNAME:Salmon Festival Road Race 2026
DESCRIPTION:Calendar for Salmon Festival Road Race 2026
TIMEZONE-ID:America/Moncton
BEGIN:VEVENT
UID:b3a9d758-d6a5-437b-9f7b-2ef24c5b21a0
CREATED:20260420T062856Z
DTSTAMP:20260421T105824Z
LAST-MODIFIED:20260421T063623Z
SUMMARY:Salmon Festival Road Race 2026
DESCRIPTION:Find more events at https://mymindisracing.com
DTSTART;TZID=America/Moncton:20260704T080000
LOCATION:Union Street\, Campbellton\, NB\, CA
GEO:48.0073556;-66.6721845
X-APPLE-STRUCTURED-LOCATION;VALUE=URI:geo:48.007356,-66.672185
X-TITLE:Salmon Festival Road Race 2026
URL:https://www.salmon-festival.com
END:VEVENT
END:VCALENDAR
