BEGIN:VCALENDAR
VERSION:2.0
PRODID:-//arran4//Golang ICS Library
METHOD:PUBLISH
NAME:11th Annual Caryn's Kids 5k & Fun Run
X-WR-CALNAME:11th Annual Caryn's Kids 5k & Fun Run
DESCRIPTION:Calendar for 11th Annual Caryn's Kids 5k & Fun Run
TIMEZONE-ID:America/Chicago
BEGIN:VEVENT
UID:b16ebee9-d2cf-440e-9a58-0dc9db8abd9f
CREATED:20260422T060011Z
DTSTAMP:20260423T094930Z
LAST-MODIFIED:20260423T060005Z
SUMMARY:11th Annual Caryn's Kids 5k & Fun Run
DESCRIPTION:Find more events at https://mymindisracing.com
DTSTART;TZID=America/Chicago:20260425T080000
DTEND;TZID=America/Chicago:20260425T103000
LOCATION:1035 Cody Road N.\, Mobile\, AL\, 36608\, US
GEO:30.710506;-88.210219
X-APPLE-STRUCTURED-LOCATION;VALUE=URI:geo:30.710506,-88.210219
X-TITLE:The Grounds
URL:https://www.facebook.com/CarynsKids2027
END:VEVENT
END:VCALENDAR
