BEGIN:VCALENDAR
VERSION:2.0
PRODID:-//arran4//Golang ICS Library
METHOD:PUBLISH
NAME:Qianshan Trail Running Challenge
X-WR-CALNAME:Qianshan Trail Running Challenge
DESCRIPTION:Calendar for Qianshan Trail Running Challenge
TIMEZONE-ID:Asia/Shanghai
BEGIN:VEVENT
UID:afed88d0-e96c-4249-afbd-0d5904630ae6
CREATED:20260419T062057Z
DTSTAMP:20260421T105651Z
LAST-MODIFIED:20260421T060640Z
SUMMARY:Qianshan Trail Running Challenge
DESCRIPTION:Find more events at https://mymindisracing.com
DTSTART:20260418T000000Z
LOCATION:Anshan\, LN\, CN
GEO:40.822222;122.8275
X-APPLE-STRUCTURED-LOCATION;VALUE=URI:geo:40.822222,122.827500
X-TITLE:Qianshan Trail Running Challenge
URL:https://itra.run/Races/RaceDetails/Qianshan.Trail.Running.Challenge.70K
 M/2026/112420
END:VEVENT
END:VCALENDAR
