BEGIN:VCALENDAR
VERSION:2.0
PRODID:-//arran4//Golang ICS Library
METHOD:PUBLISH
NAME:Kapas Marang Swimathon 2026
X-WR-CALNAME:Kapas Marang Swimathon 2026
DESCRIPTION:Calendar for Kapas Marang Swimathon 2026
TIMEZONE-ID:Asia/Kuala_Lumpur
BEGIN:VEVENT
UID:ae464c7d-ee9c-42f7-a3cd-7d03cf92b1a3
CREATED:20251106T212933Z
DTSTAMP:20260421T141550Z
LAST-MODIFIED:20260421T061415Z
SUMMARY:Kapas Marang Swimathon 2026
DESCRIPTION:Find more events at https://mymindisracing.com
DTSTART;TZID=Asia/Kuala_Lumpur:20260501T063000
LOCATION:T36\, 11\, 21600\, MY
GEO:5.2158292;103.262912
X-APPLE-STRUCTURED-LOCATION;VALUE=URI:geo:5.215829,103.262912
X-TITLE:Kapas Marang Swimathon 2026
URL:https://raceroster.com/events/2026/111873/kapas-marang-swimathon-2026
END:VEVENT
END:VCALENDAR
