BEGIN:VCALENDAR
VERSION:2.0
PRODID:-//arran4//Golang ICS Library
METHOD:PUBLISH
NAME:2026 KINCARDINE 7K TRAIL CHALLENGE #7
X-WR-CALNAME:2026 KINCARDINE 7K TRAIL CHALLENGE #7
DESCRIPTION:Calendar for 2026 KINCARDINE 7K TRAIL CHALLENGE #7
TIMEZONE-ID:America/Toronto
BEGIN:VEVENT
UID:ad8fbb5a-ea57-4b84-9f3b-7cfebc7dcb11
CREATED:20260420T063234Z
DTSTAMP:20260421T141503Z
LAST-MODIFIED:20260421T062915Z
SUMMARY:2026 KINCARDINE 7K TRAIL CHALLENGE #7
DESCRIPTION:Find more events at https://mymindisracing.com
DTSTART;TZID=America/Toronto:20260919T100000
LOCATION:Boardwalk\, Kincardine\, ON\, CA
GEO:44.1753789;-81.6409653
X-APPLE-STRUCTURED-LOCATION;VALUE=URI:geo:44.175379,-81.640965
X-TITLE:2026 KINCARDINE 7K TRAIL CHALLENGE #7
URL:https://kincardine7ktrailchallenge.weebly.com/
END:VEVENT
END:VCALENDAR
