BEGIN:VCALENDAR
VERSION:2.0
PRODID:-//arran4//Golang ICS Library
METHOD:PUBLISH
NAME:Kicking PancreAS™ 5K - Newfoundland
X-WR-CALNAME:Kicking PancreAS™ 5K - Newfoundland
DESCRIPTION:Calendar for Kicking PancreAS™ 5K - Newfoundland
TIMEZONE-ID:America/St_Johns
BEGIN:VEVENT
UID:ad7257fd-f160-4786-a6e7-966c0dfbf448
CREATED:20260420T063420Z
DTSTAMP:20260421T142211Z
LAST-MODIFIED:20260421T060838Z
SUMMARY:Kicking PancreAS™ 5K - Newfoundland
DESCRIPTION:Find more events at https://mymindisracing.com
DTSTART;TZID=America/St_Johns:20260530T183000
LOCATION:Boat House\, Quidi Vidi Lake Trail\, St. John's\, NL\, A1A 3T3\,
  CA
GEO:47.5783234;-52.6948994
X-APPLE-STRUCTURED-LOCATION;VALUE=URI:geo:47.578323,-52.694899
X-TITLE:Kicking PancreAS™ 5K - Newfoundland
URL:https://www.craigscause.ca
END:VEVENT
END:VCALENDAR
