BEGIN:VCALENDAR
VERSION:2.0
PRODID:-//arran4//Golang ICS Library
METHOD:PUBLISH
NAME:SOS
X-WR-CALNAME:SOS
DESCRIPTION:Calendar for SOS
TIMEZONE-ID:Australia/Sydney
BEGIN:VEVENT
UID:ac00d225-5238-44bd-8dc6-ef9eaec12147
CREATED:20260420T062630Z
DTSTAMP:20260421T122103Z
LAST-MODIFIED:20260421T061601Z
SUMMARY:SOS
DESCRIPTION:Find more events at https://mymindisracing.com
DTSTART;TZID=Australia/Sydney:20260529T090000
LOCATION:138P Cabarita Road\, Sydney\, NSW\, 2137\, AU
GEO:-33.8428774;151.1180707
X-APPLE-STRUCTURED-LOCATION;VALUE=URI:geo:-33.842877,151.118071
X-TITLE:SOS
URL:https://www.boldhorizons.com.au/
END:VEVENT
END:VCALENDAR
