BEGIN:VCALENDAR
VERSION:2.0
PRODID:-//arran4//Golang ICS Library
METHOD:PUBLISH
NAME:AGNO TRAIL
X-WR-CALNAME:AGNO TRAIL
DESCRIPTION:Calendar for AGNO TRAIL
TIMEZONE-ID:Europe/Rome
BEGIN:VEVENT
UID:ab9a7848-adb0-4e10-858f-f73cb847b521
CREATED:20260419T062044Z
DTSTAMP:20260421T105905Z
LAST-MODIFIED:20260421T060639Z
SUMMARY:AGNO TRAIL
DESCRIPTION:Find more events at https://mymindisracing.com
DTSTART:20260418T000000Z
LOCATION:Valdagno\, 34\, 36078\, IT
GEO:45.6413213;11.3040596
X-APPLE-STRUCTURED-LOCATION;VALUE=URI:geo:45.641321,11.304060
X-TITLE:AGNO TRAIL
URL:https://itra.run/Races/RaceDetails/AGNO.TRAIL.AGNO.MARATHON/2026/114317
END:VEVENT
END:VCALENDAR
