BEGIN:VCALENDAR
VERSION:2.0
PRODID:-//arran4//Golang ICS Library
METHOD:PUBLISH
NAME:Lake Wilderness Triathlon 2026
X-WR-CALNAME:Lake Wilderness Triathlon 2026
DESCRIPTION:Calendar for Lake Wilderness Triathlon 2026
TIMEZONE-ID:America/Los_Angeles
BEGIN:VEVENT
UID:aa969cdd-c11a-4895-a15d-11f9ef5f5948
CREATED:20260420T060012Z
DTSTAMP:20260421T105910Z
LAST-MODIFIED:20260421T060017Z
SUMMARY:Lake Wilderness Triathlon 2026
DESCRIPTION:Find more events at https://mymindisracing.com
DTSTART;TZID=America/Los_Angeles:20260606T070000
DTEND;TZID=America/Los_Angeles:20260606T113000
LOCATION:22500 SE 248th St\, Maple Valley\, WA\, 98038\, US
GEO:47.379709;-122.0393
X-APPLE-STRUCTURED-LOCATION;VALUE=URI:geo:47.379709,-122.039300
X-TITLE:Lake Wilderness Park
URL:http://lakewildernesstriathlon.com
END:VEVENT
END:VCALENDAR
