BEGIN:VCALENDAR
VERSION:2.0
PRODID:-//arran4//Golang ICS Library
METHOD:PUBLISH
NAME:Dune Marathon Morocco
X-WR-CALNAME:Dune Marathon Morocco
DESCRIPTION:Calendar for Dune Marathon Morocco
TIMEZONE-ID:Africa/Casablanca
BEGIN:VEVENT
UID:aa4a2df1-3735-46f2-8f45-096e9e4a7b22
CREATED:20260422T062403Z
DTSTAMP:20260423T093824Z
LAST-MODIFIED:20260423T060328Z
SUMMARY:Dune Marathon Morocco
DESCRIPTION:Find more events at https://mymindisracing.com
DTSTART:20260422T000000Z
LOCATION:Erfoud\, 08\, 52200\, MA
GEO:31.4349921;-4.2328293
X-APPLE-STRUCTURED-LOCATION;VALUE=URI:geo:31.434992,-4.232829
X-TITLE:Dune Marathon Morocco
URL:https://itra.run/Races/RaceDetails/Dune.Marathon.Morocco.Wildmarathon.S
 eries/2026/111577
END:VEVENT
END:VCALENDAR
