BEGIN:VCALENDAR
VERSION:2.0
PRODID:-//arran4//Golang ICS Library
METHOD:PUBLISH
NAME:2026 Poley Peak Pursuit
X-WR-CALNAME:2026 Poley Peak Pursuit
DESCRIPTION:Calendar for 2026 Poley Peak Pursuit
TIMEZONE-ID:America/Moncton
BEGIN:VEVENT
UID:a98f8647-18cc-4745-82d8-bf2e40827790
CREATED:20260420T064045Z
DTSTAMP:20260421T105823Z
LAST-MODIFIED:20260421T061941Z
SUMMARY:2026 Poley Peak Pursuit
DESCRIPTION:Find more events at https://mymindisracing.com
DTSTART;TZID=America/Moncton:20261010T110000
LOCATION:Poley Mountain\, 4\, Waterford Parish\, NB\, E4E 5C5\, CA
GEO:45.6799636;-65.3813389
X-APPLE-STRUCTURED-LOCATION;VALUE=URI:geo:45.679964,-65.381339
X-TITLE:2026 Poley Peak Pursuit
URL:https://www.saintjohntrailrunning.com/poleypeakpursuit
END:VEVENT
END:VCALENDAR
