BEGIN:VCALENDAR
VERSION:2.0
PRODID:-//arran4//Golang ICS Library
METHOD:PUBLISH
NAME:Trail de Reyv
X-WR-CALNAME:Trail de Reyv
DESCRIPTION:Calendar for Trail de Reyv
TIMEZONE-ID:Europe/Paris
BEGIN:VEVENT
UID:a954a1ec-e1e8-4c4b-af35-c73dde74be04
CREATED:20260419T062038Z
DTSTAMP:20260421T105619Z
LAST-MODIFIED:20260421T060639Z
SUMMARY:Trail de Reyv
DESCRIPTION:Find more events at https://mymindisracing.com
DTSTART:20260419T000000Z
LOCATION:Reyvroz\, ARA\, 74200\, FR
GEO:46.3260431;6.5599976
X-APPLE-STRUCTURED-LOCATION;VALUE=URI:geo:46.326043,6.559998
X-TITLE:Trail de Reyv
URL:https://itra.run/Races/RaceDetails/Trail.de.Reyv..Grand.Reyv./2026/1109
 86
END:VEVENT
END:VCALENDAR
