BEGIN:VCALENDAR
VERSION:2.0
PRODID:-//arran4//Golang ICS Library
METHOD:PUBLISH
NAME:Jiufeng Grand Master Trail
X-WR-CALNAME:Jiufeng Grand Master Trail
DESCRIPTION:Calendar for Jiufeng Grand Master Trail
TIMEZONE-ID:Asia/Shanghai
BEGIN:VEVENT
UID:a928284b-31de-41ba-b8c7-f2f7309435d6
CREATED:20260419T062020Z
DTSTAMP:20260421T110125Z
LAST-MODIFIED:20260421T060638Z
SUMMARY:Jiufeng Grand Master Trail
DESCRIPTION:Find more events at https://mymindisracing.com
DTSTART:20260419T000000Z
LOCATION:Huangyan\, ZJ\, CN
GEO:28.65319;121.2576325
X-APPLE-STRUCTURED-LOCATION;VALUE=URI:geo:28.653190,121.257632
X-TITLE:Jiufeng Grand Master Trail
URL:https://itra.run/Races/RaceDetails/.Jiufeng.Grand.Master.Trail.30KM/202
 6/117990
END:VEVENT
END:VCALENDAR
