BEGIN:VCALENDAR
VERSION:2.0
PRODID:-//arran4//Golang ICS Library
METHOD:PUBLISH
NAME:YOU MOVE SPUD RUN 2026
X-WR-CALNAME:YOU MOVE SPUD RUN 2026
DESCRIPTION:Calendar for YOU MOVE SPUD RUN 2026
TIMEZONE-ID:America/Halifax
BEGIN:VEVENT
UID:a84b28ce-eb5c-4c91-b19c-9e450dc698e0
CREATED:20260420T063736Z
DTSTAMP:20260421T105650Z
LAST-MODIFIED:20260421T060724Z
SUMMARY:YOU MOVE SPUD RUN 2026
DESCRIPTION:Find more events at https://mymindisracing.com
DTSTART;TZID=America/Halifax:20260718T070000
LOCATION:180 Mill River Resort Road\, Prince County\, PE\, CA
GEO:46.7418646;-64.1660277
X-APPLE-STRUCTURED-LOCATION;VALUE=URI:geo:46.741865,-64.166028
X-TITLE:YOU MOVE SPUD RUN 2026
URL:https://raceroster.com/events/2026/119029/you-move-spud-run-2026
END:VEVENT
END:VCALENDAR
