BEGIN:VCALENDAR
VERSION:2.0
PRODID:-//arran4//Golang ICS Library
METHOD:PUBLISH
NAME:LANGKAWI KILIM TRAIL RUN
X-WR-CALNAME:LANGKAWI KILIM TRAIL RUN
DESCRIPTION:Calendar for LANGKAWI KILIM TRAIL RUN
TIMEZONE-ID:Asia/Kuala_Lumpur
BEGIN:VEVENT
UID:a745a07a-8273-47c7-8dcb-bb6df2b33138
CREATED:20260419T062052Z
DTSTAMP:20260421T105905Z
LAST-MODIFIED:20260421T060640Z
SUMMARY:LANGKAWI KILIM TRAIL RUN
DESCRIPTION:Find more events at https://mymindisracing.com
DTSTART:20260418T000000Z
LOCATION:Pulau Langkawi\, 02\, MY
GEO:6.3682606;99.7929851
X-APPLE-STRUCTURED-LOCATION;VALUE=URI:geo:6.368261,99.792985
X-TITLE:LANGKAWI KILIM TRAIL RUN
URL:https://itra.run/Races/RaceDetails/LANGKAWI.KILIM.TRAIL.RUN.KILIM30/202
 6/111650
END:VEVENT
END:VCALENDAR
