BEGIN:VCALENDAR
VERSION:2.0
PRODID:-//arran4//Golang ICS Library
METHOD:PUBLISH
NAME:Trail saint roch
X-WR-CALNAME:Trail saint roch
DESCRIPTION:Calendar for Trail saint roch
TIMEZONE-ID:Europe/Paris
BEGIN:VEVENT
UID:a3cd318a-27bf-4fd3-8942-17a7bee35ac2
CREATED:20260419T062040Z
DTSTAMP:20260421T105732Z
LAST-MODIFIED:20260421T060639Z
SUMMARY:Trail saint roch
DESCRIPTION:Find more events at https://mymindisracing.com
DTSTART:20260419T000000Z
LOCATION:Montolieu\, OCC\, 11170\, FR
GEO:43.3105303;2.2144942
X-APPLE-STRUCTURED-LOCATION;VALUE=URI:geo:43.310530,2.214494
X-TITLE:Trail saint roch
URL:https://itra.run/Races/RaceDetails/Trail.saint.roch.L.izoule/2026/11224
 6
END:VEVENT
END:VCALENDAR
