BEGIN:VCALENDAR
VERSION:2.0
PRODID:-//arran4//Golang ICS Library
METHOD:PUBLISH
NAME:Hinton's Run in the Rockies
X-WR-CALNAME:Hinton's Run in the Rockies
DESCRIPTION:Calendar for Hinton's Run in the Rockies
TIMEZONE-ID:America/Edmonton
BEGIN:VEVENT
UID:a3949ea0-9d66-4d02-8332-f687a4e02865
CREATED:20260420T063741Z
DTSTAMP:20260421T105731Z
LAST-MODIFIED:20260421T061204Z
SUMMARY:Hinton's Run in the Rockies
DESCRIPTION:Find more events at https://mymindisracing.com
DTSTART;TZID=America/Edmonton:20260919T100000
LOCATION:Yellowhead County\, AB\, CA
GEO:53.4968132;-116.646261
X-APPLE-STRUCTURED-LOCATION;VALUE=URI:geo:53.496813,-116.646261
X-TITLE:Hinton's Run in the Rockies
URL:https://runhinton.wordpress.com/
END:VEVENT
END:VCALENDAR
