BEGIN:VCALENDAR
VERSION:2.0
PRODID:-//arran4//Golang ICS Library
METHOD:PUBLISH
NAME:FESTITRAIL 2026
X-WR-CALNAME:FESTITRAIL 2026
DESCRIPTION:Calendar for FESTITRAIL 2026
TIMEZONE-ID:Europe/Paris
BEGIN:VEVENT
UID:a2bba698-de04-44a7-a243-17b9611aac83
CREATED:20260419T062024Z
DTSTAMP:20260421T105732Z
LAST-MODIFIED:20260421T060638Z
SUMMARY:FESTITRAIL 2026
DESCRIPTION:Find more events at https://mymindisracing.com
DTSTART:20260419T000000Z
LOCATION:Cannes-Et-Clairan\, OCC\, 30260\, FR
GEO:43.9001011;4.083778
X-APPLE-STRUCTURED-LOCATION;VALUE=URI:geo:43.900101,4.083778
X-TITLE:FESTITRAIL 2026
URL:https://itra.run/Races/RaceDetails/FESTITRAIL.2026.XXV.TRAIL/2026/11193
 6
END:VEVENT
END:VCALENDAR
