BEGIN:VCALENDAR
VERSION:2.0
PRODID:-//arran4//Golang ICS Library
METHOD:PUBLISH
NAME:Girls Supporting Girls Cycling Workshop
X-WR-CALNAME:Girls Supporting Girls Cycling Workshop
DESCRIPTION:Calendar for Girls Supporting Girls Cycling Workshop
BEGIN:VEVENT
UID:a1c82b4d-5594-44a3-b2c5-fbb5a2cf1917
CREATED:20260415T060422Z
DTSTAMP:20260423T122737Z
LAST-MODIFIED:20260423T060039Z
SUMMARY:Girls Supporting Girls Cycling Workshop
DESCRIPTION:Find more events at https://mymindisracing.com
DTSTART:20260530T100000Z
DTEND:20260530T150000Z
LOCATION:Whitehorse\, YT\, CA
GEO:60.72701;-135.09614
X-APPLE-STRUCTURED-LOCATION;VALUE=URI:geo:60.727010,-135.096140
X-TITLE:Girls Supporting Girls Cycling Workshop
URL:http://yukoncycling.com
END:VEVENT
END:VCALENDAR
