BEGIN:VCALENDAR
VERSION:2.0
PRODID:-//arran4//Golang ICS Library
METHOD:PUBLISH
NAME:Surya DevBhoomi Challenge 2.0
X-WR-CALNAME:Surya DevBhoomi Challenge 2.0
DESCRIPTION:Calendar for Surya DevBhoomi Challenge 2.0
TIMEZONE-ID:Asia/Kolkata
BEGIN:VEVENT
UID:a0adf081-cd53-4630-82bc-864f5c17b379
CREATED:20260417T062329Z
DTSTAMP:20260422T084142Z
LAST-MODIFIED:20260422T062430Z
SUMMARY:Surya DevBhoomi Challenge 2.0
DESCRIPTION:Find more events at https://mymindisracing.com
DTSTART:20260417T000000Z
LOCATION:Badrinath Purwa\, UP\, IN
GEO:26.45811;80.77416
X-APPLE-STRUCTURED-LOCATION;VALUE=URI:geo:26.458110,80.774160
X-TITLE:Surya DevBhoomi Challenge 2.0
URL:https://itra.run/Races/RaceDetails/Surya.DevBhoomi.Challenge.2.0.Surya.
 DevBhoomi.Challenge.2.0/2026/116593
END:VEVENT
END:VCALENDAR
