BEGIN:VCALENDAR
VERSION:2.0
PRODID:-//arran4//Golang ICS Library
METHOD:PUBLISH
NAME:Heirs to the Throne 5k and 1 Mile Walk
X-WR-CALNAME:Heirs to the Throne 5k and 1 Mile Walk
DESCRIPTION:Calendar for Heirs to the Throne 5k and 1 Mile Walk
TIMEZONE-ID:America/Chicago
BEGIN:VEVENT
UID:a07f23b8-4f14-49ae-94c3-b681e9d18b8c
CREATED:20260422T060015Z
DTSTAMP:20260423T094621Z
LAST-MODIFIED:20260423T060006Z
SUMMARY:Heirs to the Throne 5k and 1 Mile Walk
DESCRIPTION:Find more events at https://mymindisracing.com
DTSTART;TZID=America/Chicago:20260425T090000
DTEND;TZID=America/Chicago:20260425T235900
LOCATION:3125 32nd St\, Abilene\, TX\, 79605\, US
GEO:32.40905;-99.759414
X-APPLE-STRUCTURED-LOCATION;VALUE=URI:geo:32.409050,-99.759414
X-TITLE:REDBUD PARK
URL:http://www.active.com/abilene-tx/running/distance-running-races/heirs-t
 o-the-throne-5k-and-1-mile-walk-2026
END:VEVENT
END:VCALENDAR
