BEGIN:VCALENDAR
VERSION:2.0
PRODID:-//arran4//Golang ICS Library
METHOD:PUBLISH
NAME:Mike's Bike Shop Kids Of Steel Triathlon 2026
X-WR-CALNAME:Mike's Bike Shop Kids Of Steel Triathlon 2026
DESCRIPTION:Calendar for Mike's Bike Shop Kids Of Steel Triathlon 2026
TIMEZONE-ID:America/Moncton
BEGIN:VEVENT
UID:99ae869c-0020-49f1-b8b5-637e8ea678d6
CREATED:20260420T063142Z
DTSTAMP:20260421T142026Z
LAST-MODIFIED:20260421T063236Z
SUMMARY:Mike's Bike Shop Kids Of Steel Triathlon 2026
DESCRIPTION:Find more events at https://mymindisracing.com
DTSTART;TZID=America/Moncton:20260606T100000
LOCATION:Aquatique Street\, Dieppe\, NB\, CA
GEO:46.0945151;-64.702544
X-APPLE-STRUCTURED-LOCATION;VALUE=URI:geo:46.094515,-64.702544
X-TITLE:Mike's Bike Shop Kids Of Steel Triathlon 2026
URL:https://trisoutheaststorm.com/mikes-bike-shop-kids-of-steel-triathlon/
END:VEVENT
END:VCALENDAR
