BEGIN:VCALENDAR
VERSION:2.0
PRODID:-//arran4//Golang ICS Library
METHOD:PUBLISH
NAME:Trail Monte San Giorgio
X-WR-CALNAME:Trail Monte San Giorgio
DESCRIPTION:Calendar for Trail Monte San Giorgio
TIMEZONE-ID:Europe/Rome
BEGIN:VEVENT
UID:9970ccfd-cda0-4296-b649-14f29a8f05e7
CREATED:20260419T062039Z
DTSTAMP:20260421T105037Z
LAST-MODIFIED:20260421T060639Z
SUMMARY:Trail Monte San Giorgio
DESCRIPTION:Find more events at https://mymindisracing.com
DTSTART:20260419T000000Z
LOCATION:Piossasco\, 21\, 10045\, IT
GEO:44.990896;7.4629349
X-APPLE-STRUCTURED-LOCATION;VALUE=URI:geo:44.990896,7.462935
X-TITLE:Trail Monte San Giorgio
URL:https://itra.run/Races/RaceDetails/Trail.Monte.San.Giorgio.Sky.Marathon
 .Monte.San.Giorgio/2026/117019
END:VEVENT
END:VCALENDAR
