BEGIN:VCALENDAR
VERSION:2.0
PRODID:-//arran4//Golang ICS Library
METHOD:PUBLISH
NAME:Columbia River Half Iron 1.2S\, 56B\, 13.1R
X-WR-CALNAME:Columbia River Half Iron 1.2S\, 56B\, 13.1R
DESCRIPTION:Calendar for Columbia River Half Iron 1.2S\, 56B\, 13.1R
TIMEZONE-ID:America/Los_Angeles
BEGIN:VEVENT
UID:976b2254-7058-4fce-adf1-6171e0d59073
CREATED:20260421T060018Z
DTSTAMP:20260424T095552Z
LAST-MODIFIED:20260421T060018Z
SUMMARY:Columbia River Half Iron 1.2S\, 56B\, 13.1R
DESCRIPTION:Find more events at https://mymindisracing.com
DTSTART;TZID=America/Los_Angeles:20260614T080000
DTEND;TZID=America/Los_Angeles:20260614T160000
LOCATION:320 Main Street\, Vantage\, WA\, 98950\, US
GEO:46.943117;-119.988518
X-APPLE-STRUCTURED-LOCATION;VALUE=URI:geo:46.943117,-119.988518
X-TITLE:Vantage Grand Resort
URL:https://www.sammamishrunning.com/
END:VEVENT
END:VCALENDAR
