BEGIN:VCALENDAR
VERSION:2.0
PRODID:-//arran4//Golang ICS Library
METHOD:PUBLISH
NAME:Caveman Roar n' Pour 5k Trail Fun Run/Walk & Wine Tasting Event 2026
X-WR-CALNAME:Caveman Roar n' Pour 5k Trail Fun Run/Walk & Wine Tasting
  Event 2026
DESCRIPTION:Calendar for Caveman Roar n' Pour 5k Trail Fun Run/Walk & Wine
  Tasting Event 2026
TIMEZONE-ID:America/Los_Angeles
BEGIN:VEVENT
UID:9579e899-a1d8-477a-9484-6a20ded7efd2
CREATED:20260423T060007Z
DTSTAMP:20260424T075637Z
LAST-MODIFIED:20260424T060007Z
SUMMARY:Caveman Roar n' Pour 5k Trail Fun Run/Walk & Wine Tasting Event
  2026
DESCRIPTION:Find more events at https://mymindisracing.com
DTSTART;TZID=America/Los_Angeles:20260425T090000
DTEND;TZID=America/Los_Angeles:20260425T133000
LOCATION:348 Silica Rd NW\, Quincy\, WA\, 98848\, US
GEO:47.096536;-119.982647
X-APPLE-STRUCTURED-LOCATION;VALUE=URI:geo:47.096536,-119.982647
X-TITLE:Cave B Estate Winery
URL:https://caveb.com/cave-b-estate-winery-events/
END:VEVENT
END:VCALENDAR
