BEGIN:VCALENDAR
VERSION:2.0
PRODID:-//arran4//Golang ICS Library
METHOD:PUBLISH
NAME:Kitamusashi Giants Gate
X-WR-CALNAME:Kitamusashi Giants Gate
DESCRIPTION:Calendar for Kitamusashi Giants Gate
TIMEZONE-ID:Asia/Tokyo
BEGIN:VEVENT
UID:9561436d-c565-413a-8e1a-a49a12905daf
CREATED:20260419T062051Z
DTSTAMP:20260421T105650Z
LAST-MODIFIED:20260421T060640Z
SUMMARY:Kitamusashi Giants Gate
DESCRIPTION:Find more events at https://mymindisracing.com
DTSTART:20260418T000000Z
LOCATION:Nagatoro\, 11\, JP
GEO:36.1146759;139.1096479
X-APPLE-STRUCTURED-LOCATION;VALUE=URI:geo:36.114676,139.109648
X-TITLE:Kitamusashi Giants Gate
URL:https://itra.run/Races/RaceDetails/Kitamusashi.Giant.s.Gate.85k/2026/11
 5378
END:VEVENT
END:VCALENDAR
