BEGIN:VCALENDAR
VERSION:2.0
PRODID:-//arran4//Golang ICS Library
METHOD:PUBLISH
NAME:5th Annual Debbie Pridgen "Mother Recovery" 5K Run/Walk and Fun Run
X-WR-CALNAME:5th Annual Debbie Pridgen "Mother Recovery" 5K Run/Walk and
  Fun Run
DESCRIPTION:Calendar for 5th Annual Debbie Pridgen "Mother Recovery" 5K
  Run/Walk and Fun Run
TIMEZONE-ID:America/Chicago
BEGIN:VEVENT
UID:943b1631-9410-4644-9a33-44444827ba21
CREATED:20260420T062752Z
DTSTAMP:20260421T154915Z
LAST-MODIFIED:20260421T062553Z
SUMMARY:5th Annual Debbie Pridgen "Mother Recovery" 5K Run/Walk and Fun Run
DESCRIPTION:Find more events at https://mymindisracing.com
DTSTART;TZID=America/Chicago:20260606T080000
LOCATION:Wirtz Road\, Flowood\, MS\, 39232\, US
GEO:32.3500778;-90.057409
X-APPLE-STRUCTURED-LOCATION;VALUE=URI:geo:32.350078,-90.057409
X-TITLE:5th Annual Debbie Pridgen "Mother Recovery" 5K Run/Walk and Fun Run
URL:http://https:www.facebook.com/AllthingsnewincRev215
END:VEVENT
END:VCALENDAR
