BEGIN:VCALENDAR
VERSION:2.0
PRODID:-//arran4//Golang ICS Library
METHOD:PUBLISH
NAME:Lily Lake Lollygag Trail Run 2026
X-WR-CALNAME:Lily Lake Lollygag Trail Run 2026
DESCRIPTION:Calendar for Lily Lake Lollygag Trail Run 2026
TIMEZONE-ID:America/Halifax
BEGIN:VEVENT
UID:93615f4a-0885-4a54-a211-71bcd267bb61
CREATED:20260420T062830Z
DTSTAMP:20260421T105742Z
LAST-MODIFIED:20260421T063227Z
SUMMARY:Lily Lake Lollygag Trail Run 2026
DESCRIPTION:Find more events at https://mymindisracing.com
DTSTART;TZID=America/Halifax:20260425T090000
LOCATION:Unnamed Road\, Digby County\, NS\, CA
GEO:44.6489942;-65.8077478
X-APPLE-STRUCTURED-LOCATION;VALUE=URI:geo:44.648994,-65.807748
X-TITLE:Lily Lake Lollygag Trail Run 2026
URL:http://www.digbytrails.ca/lily-lake-lollygag-trail-run.html
END:VEVENT
END:VCALENDAR
