BEGIN:VCALENDAR
VERSION:2.0
PRODID:-//arran4//Golang ICS Library
METHOD:PUBLISH
NAME:Paradise Apple Fun Run
X-WR-CALNAME:Paradise Apple Fun Run
DESCRIPTION:Calendar for Paradise Apple Fun Run
TIMEZONE-ID:America/Halifax
BEGIN:VEVENT
UID:9310358e-f02c-43aa-85a4-ac82749032d4
CREATED:20260420T062751Z
DTSTAMP:20260421T110100Z
LAST-MODIFIED:20260421T063442Z
SUMMARY:Paradise Apple Fun Run
DESCRIPTION:Find more events at https://mymindisracing.com
DTSTART;TZID=America/Halifax:20260927T090000
LOCATION:10267 Highway 1\, Municipality Of The County Of Annapolis\, NS\,
  CA
GEO:44.8694325;-65.2135268
X-APPLE-STRUCTURED-LOCATION;VALUE=URI:geo:44.869433,-65.213527
X-TITLE:Paradise Apple Fun Run
URL:https://www.paradisehall.ca/
END:VEVENT
END:VCALENDAR
