BEGIN:VCALENDAR
VERSION:2.0
PRODID:-//arran4//Golang ICS Library
METHOD:PUBLISH
NAME:Amanitis Trail
X-WR-CALNAME:Amanitis Trail
DESCRIPTION:Calendar for Amanitis Trail
TIMEZONE-ID:Europe/Athens
BEGIN:VEVENT
UID:929446ca-867a-4671-afbd-f8c990591530
CREATED:20260415T063135Z
DTSTAMP:20260420T084326Z
LAST-MODIFIED:20260418T060628Z
SUMMARY:Amanitis Trail
DESCRIPTION:Find more events at https://mymindisracing.com
DTSTART:20260329T000000Z
LOCATION:Chios\, K\, GR
GEO:38.3758132;26.0646552
X-APPLE-STRUCTURED-LOCATION;VALUE=URI:geo:38.375813,26.064655
X-TITLE:Amanitis Trail
URL:https://itra.run/Races/RaceDetails/Amanitis.Trail.Amanitis..40K/2026/10
 3363
END:VEVENT
END:VCALENDAR
