BEGIN:VCALENDAR
VERSION:2.0
PRODID:-//arran4//Golang ICS Library
METHOD:PUBLISH
NAME:Running Bear at the Rocks
X-WR-CALNAME:Running Bear at the Rocks
DESCRIPTION:Calendar for Running Bear at the Rocks
TIMEZONE-ID:America/New_York
BEGIN:VEVENT
UID:91bf1377-e5d6-4b8f-8928-f88b59ff0dac
CREATED:20260420T063742Z
DTSTAMP:20260421T105936Z
LAST-MODIFIED:20260421T062200Z
SUMMARY:Running Bear at the Rocks
DESCRIPTION:Find more events at https://mymindisracing.com
DTSTART;TZID=America/New_York:20260926T090000
LOCATION:141 Big Springs Road\, Bullskin Township\, PA\, 15610\, US
GEO:40.123733;-79.454002
X-APPLE-STRUCTURED-LOCATION;VALUE=URI:geo:40.123733,-79.454002
X-TITLE:Running Bear at the Rocks
URL:https://raceroster.com/events/2026/118222/running-bear-at-the-rocks
END:VEVENT
END:VCALENDAR
