BEGIN:VCALENDAR
VERSION:2.0
PRODID:-//arran4//Golang ICS Library
METHOD:PUBLISH
NAME:2026 Points East Lighthouse Run/Relay
X-WR-CALNAME:2026 Points East Lighthouse Run/Relay
DESCRIPTION:Calendar for 2026 Points East Lighthouse Run/Relay
TIMEZONE-ID:America/Halifax
BEGIN:VEVENT
UID:8ffbf564-0bb1-407e-86b4-ffb7d4e2e823
CREATED:20260420T063316Z
DTSTAMP:20260421T105558Z
LAST-MODIFIED:20260421T062606Z
SUMMARY:2026 Points East Lighthouse Run/Relay
DESCRIPTION:Find more events at https://mymindisracing.com
DTSTART;TZID=America/Halifax:20260613T080000
LOCATION:Lighthouse Road\, Rural Municipality Of Eastern Kings\, PE\, CA
GEO:46.4525593;-61.9718303
X-APPLE-STRUCTURED-LOCATION;VALUE=URI:geo:46.452559,-61.971830
X-TITLE:2026 Points East Lighthouse Run/Relay
URL:https://peilighthouserun.com/
END:VEVENT
END:VCALENDAR
