BEGIN:VCALENDAR
VERSION:2.0
PRODID:-//arran4//Golang ICS Library
METHOD:PUBLISH
NAME:Nora Mountain Trail
X-WR-CALNAME:Nora Mountain Trail
DESCRIPTION:Calendar for Nora Mountain Trail
TIMEZONE-ID:Europe/Rome
BEGIN:VEVENT
UID:8f827084-4221-4720-a47f-e075be7afd53
CREATED:20260419T062031Z
DTSTAMP:20260421T105823Z
LAST-MODIFIED:20260421T060639Z
SUMMARY:Nora Mountain Trail
DESCRIPTION:Find more events at https://mymindisracing.com
DTSTART:20260419T000000Z
LOCATION:Pula (Ca)\, 88\, 09050\, IT
GEO:39.007433;9.001646
X-APPLE-STRUCTURED-LOCATION;VALUE=URI:geo:39.007433,9.001646
X-TITLE:Nora Mountain Trail
URL:https://itra.run/Races/RaceDetails/Nora.Mountain.Trail.Long/2026/117652
END:VEVENT
END:VCALENDAR
