BEGIN:VCALENDAR
VERSION:2.0
PRODID:-//arran4//Golang ICS Library
METHOD:PUBLISH
NAME:MONTSEC ULTRA TRAIL
X-WR-CALNAME:MONTSEC ULTRA TRAIL
DESCRIPTION:Calendar for MONTSEC ULTRA TRAIL
TIMEZONE-ID:Europe/Madrid
BEGIN:VEVENT
UID:8cb35238-6673-45ea-b87f-3d14ab2f9e2f
CREATED:20260419T062121Z
DTSTAMP:20260421T105727Z
LAST-MODIFIED:20260419T062121Z
SUMMARY:MONTSEC ULTRA TRAIL
DESCRIPTION:Find more events at https://mymindisracing.com
DTSTART:20260411T000000Z
LOCATION:Àger\, CT\, ES
GEO:42.0000405;0.7632134
X-APPLE-STRUCTURED-LOCATION;VALUE=URI:geo:42.000040,0.763213
X-TITLE:MONTSEC ULTRA TRAIL
URL:https://itra.run/Races/RaceDetails/MONTSEC.ULTRA.TRAIL.maraton.del.mont
 sec/2026/115573
END:VEVENT
END:VCALENDAR
