BEGIN:VCALENDAR
VERSION:2.0
PRODID:-//arran4//Golang ICS Library
METHOD:PUBLISH
NAME:Northland Tianmu Lake Trail Run
X-WR-CALNAME:Northland Tianmu Lake Trail Run
DESCRIPTION:Calendar for Northland Tianmu Lake Trail Run
TIMEZONE-ID:Asia/Shanghai
BEGIN:VEVENT
UID:8ba36472-a300-4ec8-88c6-c6ce06e766a5
CREATED:20260419T062054Z
DTSTAMP:20260421T105042Z
LAST-MODIFIED:20260421T060640Z
SUMMARY:Northland Tianmu Lake Trail Run
DESCRIPTION:Find more events at https://mymindisracing.com
DTSTART:20260418T000000Z
LOCATION:Liyang\, JS\, 213300\, CN
GEO:31.4178958;119.4787471
X-APPLE-STRUCTURED-LOCATION;VALUE=URI:geo:31.417896,119.478747
X-TITLE:Northland Tianmu Lake Trail Run
URL:https://itra.run/Races/RaceDetails/Northland.Tianmu.Lake.Trail.Run.100K
 M.GROUP/2026/113971
END:VEVENT
END:VCALENDAR
