BEGIN:VCALENDAR
VERSION:2.0
PRODID:-//arran4//Golang ICS Library
METHOD:PUBLISH
NAME:Mini of Fairfield County triathlon and duathlon 2026
X-WR-CALNAME:Mini of Fairfield County triathlon and duathlon 2026
DESCRIPTION:Calendar for Mini of Fairfield County triathlon and duathlon
  2026
TIMEZONE-ID:America/New_York
BEGIN:VEVENT
UID:8b75029e-d062-4585-8650-228812d422af
CREATED:20260421T060018Z
DTSTAMP:20260422T103003Z
LAST-MODIFIED:20260421T060018Z
SUMMARY:Mini of Fairfield County triathlon and duathlon 2026
DESCRIPTION:Find more events at https://mymindisracing.com
DTSTART;TZID=America/New_York:20260614T070000
DTEND;TZID=America/New_York:20260614T095900
LOCATION:1 Barnum Dyke\, Bridgeport\, CT\, 06605\, US
GEO:41.158733;-73.202936
X-APPLE-STRUCTURED-LOCATION;VALUE=URI:geo:41.158733,-73.202936
X-TITLE:Seaside Park
URL:http://www.trifitness.net/events/seaside.html
END:VEVENT
END:VCALENDAR
