BEGIN:VCALENDAR
VERSION:2.0
PRODID:-//arran4//Golang ICS Library
METHOD:PUBLISH
NAME:South Huron Trail Run
X-WR-CALNAME:South Huron Trail Run
DESCRIPTION:Calendar for South Huron Trail Run
TIMEZONE-ID:America/Toronto
BEGIN:VEVENT
UID:8ae3db8a-6246-4891-930c-5f857cdce343
CREATED:20260420T063417Z
DTSTAMP:20260421T105139Z
LAST-MODIFIED:20260421T061006Z
SUMMARY:South Huron Trail Run
DESCRIPTION:Find more events at https://mymindisracing.com
DTSTART;TZID=America/Toronto:20260830T073000
LOCATION:South Huron Recreation Centre\, Victoria Street E\, Exeter\, ON\,
  CA
GEO:43.3524449;-81.4782402
X-APPLE-STRUCTURED-LOCATION;VALUE=URI:geo:43.352445,-81.478240
X-TITLE:South Huron Trail Run
URL:https://raceroster.com/events/2026/117178/south-huron-trail-run
END:VEVENT
END:VCALENDAR
