BEGIN:VCALENDAR
VERSION:2.0
PRODID:-//arran4//Golang ICS Library
METHOD:PUBLISH
NAME:Mt Coot-Tha Trail Festival
X-WR-CALNAME:Mt Coot-Tha Trail Festival
DESCRIPTION:Calendar for Mt Coot-Tha Trail Festival
TIMEZONE-ID:Australia/Brisbane
BEGIN:VEVENT
UID:8a9faa0f-2ad1-4070-95df-708e37a5665f
CREATED:20260420T064608Z
DTSTAMP:20260421T105650Z
LAST-MODIFIED:20260421T061459Z
SUMMARY:Mt Coot-Tha Trail Festival
DESCRIPTION:Find more events at https://mymindisracing.com
DTSTART;TZID=Australia/Brisbane:20260822T053000
LOCATION:LOT 109 Legacy Way\, Mount Coot-Tha\, QLD\, 4066\, AU
GEO:-27.4792155;152.9760964
X-APPLE-STRUCTURED-LOCATION;VALUE=URI:geo:-27.479215,152.976096
X-TITLE:Mt Coot-Tha Trail Festival
URL:https://www.runvault.com.au/pages/mt-coot-tha-trail-festival
END:VEVENT
END:VCALENDAR
