BEGIN:VCALENDAR
VERSION:2.0
PRODID:-//arran4//Golang ICS Library
METHOD:PUBLISH
NAME:New Tecumseth Memorial Run/Walk
X-WR-CALNAME:New Tecumseth Memorial Run/Walk
DESCRIPTION:Calendar for New Tecumseth Memorial Run/Walk
TIMEZONE-ID:America/Toronto
BEGIN:VEVENT
UID:8a2b2c31-1014-4876-b1ce-329e53c956ed
CREATED:20260420T064705Z
DTSTAMP:20260421T104753Z
LAST-MODIFIED:20260421T062858Z
SUMMARY:New Tecumseth Memorial Run/Walk
DESCRIPTION:Find more events at https://mymindisracing.com
DTSTART;TZID=America/Toronto:20261018T090000
LOCATION:Beech Street West\, Alliston\, ON\, CA
GEO:44.1474985;-79.8685463
X-APPLE-STRUCTURED-LOCATION;VALUE=URI:geo:44.147498,-79.868546
X-TITLE:New Tecumseth Memorial Run/Walk
URL:https://raceroster.com/events/2026/118241/new-tecumseth-memorial-runwal
 k
END:VEVENT
END:VCALENDAR
