BEGIN:VCALENDAR
VERSION:2.0
PRODID:-//arran4//Golang ICS Library
METHOD:PUBLISH
NAME:Festival de Mollusques 2026
X-WR-CALNAME:Festival de Mollusques 2026
DESCRIPTION:Calendar for Festival de Mollusques 2026
TIMEZONE-ID:America/Moncton
BEGIN:VEVENT
UID:89d1e6cf-dfbc-47a7-8433-c794b5203869
CREATED:20260420T063458Z
DTSTAMP:20260421T105650Z
LAST-MODIFIED:20260421T061201Z
SUMMARY:Festival de Mollusques 2026
DESCRIPTION:Find more events at https://mymindisracing.com
DTSTART;TZID=America/Moncton:20260711T070000
LOCATION:Pays De La Sagouine To The Marina\, Bouctouche\, NB\, CA
GEO:46.4726106;-64.7192231
X-APPLE-STRUCTURED-LOCATION;VALUE=URI:geo:46.472611,-64.719223
X-TITLE:Festival de Mollusques 2026
URL:https://www.facebook.com/FestivalMollusquesBouctouche/?locale=fr_CA
END:VEVENT
END:VCALENDAR
