BEGIN:VCALENDAR
VERSION:2.0
PRODID:-//arran4//Golang ICS Library
METHOD:PUBLISH
NAME:Ride for 22 2026
X-WR-CALNAME:Ride for 22 2026
DESCRIPTION:Calendar for Ride for 22 2026
TIMEZONE-ID:America/Los_Angeles
BEGIN:VEVENT
UID:8914bef4-4922-4ac0-8207-29309a3fd29e
CREATED:20260420T063100Z
DTSTAMP:20260421T105824Z
LAST-MODIFIED:20260421T060732Z
SUMMARY:Ride for 22 2026
DESCRIPTION:Find more events at https://mymindisracing.com
DTSTART;TZID=America/Los_Angeles:20260620T070000
LOCATION:1790 Safari Road\, Douglas County\, OR\, 97496\, US
GEO:43.1403678;-123.4277175
X-APPLE-STRUCTURED-LOCATION;VALUE=URI:geo:43.140368,-123.427717
X-TITLE:Ride for 22 2026
URL:https://raceroster.com/events/2026/118581/ride-for-22-2026
END:VEVENT
END:VCALENDAR
